BEGIN:VCALENDAR
VERSION:2.0
PRODID:-//Tukios.com/
BEGIN:VEVENT
UID:0214211b-b43d-4226-8e41-7d69a5bd8110@www.familycareservices.com
DTSTAMP:20260423T191437Z
DTSTART:20260428T140000Z
DTEND:20260428T150000Z
SUMMARY:Funeral Service
DESCRIPTION:
URL:https://www.familycareservices.com/obituaries/eleanor-horst
LOCATION: 11767 Lisbon Rd  Greenford OH 44422
GEO:40.9473596;-80.7914429
END:VEVENT
END:VCALENDAR