BEGIN:VCALENDAR
VERSION:2.0
PRODID:-//Tukios.com/
BEGIN:VEVENT
UID:a6d3347e-e878-433f-8835-6fdc3d80c5ec@www.familycareservices.com
DTSTAMP:20260423T191614Z
DTSTART:20260428T130000Z
DTEND:20260428T140000Z
SUMMARY:Viewing
DESCRIPTION:
URL:https://www.familycareservices.com/obituaries/eleanor-horst
LOCATION:Greenford Christian Church 11767 Lisbon Rd  Greenford OH 44422
GEO:40.9473596;-80.7914429
END:VEVENT
END:VCALENDAR