BEGIN:VCALENDAR
VERSION:2.0
PRODID:-//Tukios.com/
BEGIN:VEVENT
UID:5de66d81-d45f-4429-828f-3ef5461bca53@www.familycareservices.com
DTSTAMP:20260423T191437Z
DTSTART:20260427T220000Z
DTEND:20260428T000000Z
SUMMARY:Visitation
DESCRIPTION:
URL:https://www.familycareservices.com/obituaries/eleanor-horst
LOCATION: 549 Chestnut Street  Leetonia OH 44431
GEO:40.8919937;-80.7604734
END:VEVENT
END:VCALENDAR