BEGIN:VCALENDAR
VERSION:2.0
PRODID:-//Tukios.com/
BEGIN:VEVENT
UID:e981afc1-3f3a-422f-a9f2-13262858fe39@www.familycareservices.com
DTSTAMP:20260423T191614Z
DTSTART:20260427T180000Z
DTEND:20260427T200000Z
SUMMARY:Visitation
DESCRIPTION:
URL:https://www.familycareservices.com/obituaries/eleanor-horst
LOCATION: 549 Chestnut Street  Leetonia OH 44431
GEO:40.8919937;-80.7604734
END:VEVENT
END:VCALENDAR